BEGIN:VCALENDAR
VERSION:2.0
PRODID:-//Tukios.com/
BEGIN:VEVENT
UID:8a8e1d4f-c513-4fdf-9deb-788727168c32@www.broadwayfuneraldirectors.com
DTSTAMP:20260424T205530Z
DTSTART:20260429T150000Z
DTEND:20260429T160000Z
SUMMARY:Celebration of Life
DESCRIPTION:
URL:https://www.broadwayfuneraldirectors.com/obituaries/sarah-garcia
LOCATION: 1102 70th St  Lubbock TX 79412
GEO:33.5317895;-101.84724
END:VEVENT
END:VCALENDAR