BEGIN:VCALENDAR
VERSION:2.0
PRODID:-//Tukios.com/
BEGIN:VEVENT
UID:8d909cee-8615-48e2-8d3d-798d2c0f722b@www.broadwayfuneraldirectors.com
DTSTAMP:20260424T205719Z
DTSTART:20260428T160000Z
DTEND:20260428T230000Z
SUMMARY:Visitation
DESCRIPTION:
URL:https://www.broadwayfuneraldirectors.com/obituaries/sarah-garcia
LOCATION: 1901 Broadway  Lubbock TX 79401
GEO:33.5841916;-101.8580749
END:VEVENT
END:VCALENDAR